BEGIN:VCALENDAR
VERSION:2.0
PRODID:-//AgingIN - ECPv6.15.20//NONSGML v1.0//EN
CALSCALE:GREGORIAN
METHOD:PUBLISH
X-WR-CALNAME:AgingIN
X-ORIGINAL-URL:https://aginginnovation.org
X-WR-CALDESC:Events for AgingIN
REFRESH-INTERVAL;VALUE=DURATION:PT1H
X-Robots-Tag:noindex
X-PUBLISHED-TTL:PT1H
BEGIN:VTIMEZONE
TZID:America/New_York
BEGIN:DAYLIGHT
TZOFFSETFROM:-0500
TZOFFSETTO:-0400
TZNAME:EDT
DTSTART:20250309T070000
END:DAYLIGHT
BEGIN:STANDARD
TZOFFSETFROM:-0400
TZOFFSETTO:-0500
TZNAME:EST
DTSTART:20251102T060000
END:STANDARD
BEGIN:DAYLIGHT
TZOFFSETFROM:-0500
TZOFFSETTO:-0400
TZNAME:EDT
DTSTART:20260308T070000
END:DAYLIGHT
BEGIN:STANDARD
TZOFFSETFROM:-0400
TZOFFSETTO:-0500
TZNAME:EST
DTSTART:20261101T060000
END:STANDARD
BEGIN:DAYLIGHT
TZOFFSETFROM:-0500
TZOFFSETTO:-0400
TZNAME:EDT
DTSTART:20270314T070000
END:DAYLIGHT
BEGIN:STANDARD
TZOFFSETFROM:-0400
TZOFFSETTO:-0500
TZNAME:EST
DTSTART:20271107T060000
END:STANDARD
END:VTIMEZONE
BEGIN:VEVENT
DTSTART;TZID=America/New_York:20260220T080000
DTEND;TZID=America/New_York:20260827T170000
DTSTAMP:20260423T080839
CREATED:20260220T183854Z
LAST-MODIFIED:20260303T204425Z
UID:10000130-1771574400-1787850000@aginginnovation.org
SUMMARY:Communicating for Success: Train-the-Trainer Course
DESCRIPTION:Most Communication Training Fades Once the Session Ends.\nAgingIN’s Communicating for Success is Designed to Do The Opposite.This train-the-trainer model helps organizations embed effective communication into daily practice\, not just talk about it once and move on. \nIn aging services organizations\, communication gaps show up in everyday moments — unclear handoffs between shifts\, conversations that avoid conflict\, and supervisors stepping in to solve instead of developing others. \nOver time\, those small breakdowns add up: duplicated work\, frustration\, inconsistent follow-through\, and teams that don’t fully trust one another. \nCommunicating for Success: Train-the-Trainer is an AgingIN on-demand course designed for organizations that want to address communication as a system-level issue\, not a one-off training need. \nThrough a five-module train-the-trainer model\, your organization develops internal educators who can teach these skills consistently across roles and departments.The result? \nA workforce that feels more confident speaking up\, more capable of navigating differences\, and better equipped to work as a team. \nCommunication shouldn’t be left to personality or chance. It’s a skill—and skills can be taught. \nDelivered virtually and customized to your organization\, this course equips up to four in-house trainers to lead meaningful\, skill-based learning that improves how teams work together. \n\nInvestment: $2\,500\nFormat: Virtual and customized\nImpact: Internal expertise for long-term capacity building\n\nSchedule Communicating for Success for your team below.\nQuestions? Please contact Mary mhopfnerthomas@aginginnovation.org. \nSchedule Your Virtual Training Here
URL:https://aginginnovation.org/event/communicating-for-success-train-the-trainer-course/
LOCATION:Virtual Education
CATEGORIES:Education
ATTACH;FMTTYPE=image/png:https://aginginnovation.org/wp-content/uploads/2026/02/Train-the-Trainer.png
END:VEVENT
BEGIN:VEVENT
DTSTART;TZID=America/New_York:20260602T090000
DTEND;TZID=America/New_York:20260602T130000
DTSTAMP:20260423T080839
CREATED:20260220T181852Z
LAST-MODIFIED:20260325T225553Z
UID:10000150-1780390800-1780405200@aginginnovation.org
SUMMARY:Role of the Nurse
DESCRIPTION:Strengthening Clinical Leadership in Green House & Small House Homes\nNurses play a uniquely influential role in Green House and small house homes. Beyond clinical oversight\, they serve as partners\, advocates\, and leaders—supporting elders while working in deep collaboration with direct care partners. \nRole of the Nurse is a highly interactive\, practical course designed to equip nurses with the tools\, confidence\, and perspective needed to excel in this small house environment. \nWhy Role of the Nurse Matters\nIn Green House and small-house homes\, nurses are essential to creating environments where older adults thrive—while honoring autonomy\, dignity\, and shared decision-making. \nWho Is This Course For?\nThis course is open to all nurses who: \n\nWork in Green House or small house homes\nWant to strengthen partnerships with direct care partners\nSeek practical strategies grounded in real-world application\n\nWhat You’ll Learn:\n\nThe unique role and influence of the Green House/small house nurse\nPartnerships with direct care partners built on trust and shared problem-solving\nThe nurse’s role in navigating the dignity of risk as an advocate for elders\nLiberalized\, elder-directed medication pass practices\nHow polypharmacy can impact wellbeing — and what nurses can do when elders experience distress\n\nCourse Format & Schedule:\nRole of the Nurse\nDirect to Learner\nDates: Tuesday\, June 2 and Thursday\, June 4\, 2026\nTime: 9:00 am-1:00 pm EST\nFormat: Zoom\nTotal Duration: Two 4-hour sessions (8 hours total) \nTrain-the-Trainer\nDate: Tuesday\, June 9\, 2026\nTime: 10:30 am–12:30 pm EST\nFormat: Zoom\nTotal Duration: 2 hours \nWhat’s Included:\n\nPre- and post-course work\nPractical course handouts\nCollaborative learning with peer nurses\n\nRole of the Nurse Pricing\n\nUp to 6 nurses per location: $750\nUp to 4 nurses per location: $450\n\nTrain-the-Trainer Pricing\n\n$350\n\nQuestions?\nContact Mary mhopfnerthomas@aginginnovation.org today! \nDownload the FlyerRegister for Role of the NurseRegister for Train-theTrainer
URL:https://aginginnovation.org/event/role-of-the-nurse/2026-06-02/
LOCATION:Virtual Education
CATEGORIES:Education,Virtual Education
ATTACH;FMTTYPE=image/png:https://aginginnovation.org/wp-content/uploads/2026/02/Role-of-the-Nurse1.png
END:VEVENT
BEGIN:VEVENT
DTSTART;TZID=America/New_York:20260604T090000
DTEND;TZID=America/New_York:20260604T130000
DTSTAMP:20260423T080839
CREATED:20260220T181852Z
LAST-MODIFIED:20260325T225553Z
UID:10000151-1780563600-1780578000@aginginnovation.org
SUMMARY:Role of the Nurse
DESCRIPTION:Strengthening Clinical Leadership in Green House & Small House Homes\nNurses play a uniquely influential role in Green House and small house homes. Beyond clinical oversight\, they serve as partners\, advocates\, and leaders—supporting elders while working in deep collaboration with direct care partners. \nRole of the Nurse is a highly interactive\, practical course designed to equip nurses with the tools\, confidence\, and perspective needed to excel in this small house environment. \nWhy Role of the Nurse Matters\nIn Green House and small-house homes\, nurses are essential to creating environments where older adults thrive—while honoring autonomy\, dignity\, and shared decision-making. \nWho Is This Course For?\nThis course is open to all nurses who: \n\nWork in Green House or small house homes\nWant to strengthen partnerships with direct care partners\nSeek practical strategies grounded in real-world application\n\nWhat You’ll Learn:\n\nThe unique role and influence of the Green House/small house nurse\nPartnerships with direct care partners built on trust and shared problem-solving\nThe nurse’s role in navigating the dignity of risk as an advocate for elders\nLiberalized\, elder-directed medication pass practices\nHow polypharmacy can impact wellbeing — and what nurses can do when elders experience distress\n\nCourse Format & Schedule:\nRole of the Nurse\nDirect to Learner\nDates: Tuesday\, June 2 and Thursday\, June 4\, 2026\nTime: 9:00 am-1:00 pm EST\nFormat: Zoom\nTotal Duration: Two 4-hour sessions (8 hours total) \nTrain-the-Trainer\nDate: Tuesday\, June 9\, 2026\nTime: 10:30 am–12:30 pm EST\nFormat: Zoom\nTotal Duration: 2 hours \nWhat’s Included:\n\nPre- and post-course work\nPractical course handouts\nCollaborative learning with peer nurses\n\nRole of the Nurse Pricing\n\nUp to 6 nurses per location: $750\nUp to 4 nurses per location: $450\n\nTrain-the-Trainer Pricing\n\n$350\n\nQuestions?\nContact Mary mhopfnerthomas@aginginnovation.org today! \nDownload the FlyerRegister for Role of the NurseRegister for Train-theTrainer
URL:https://aginginnovation.org/event/role-of-the-nurse/2026-06-04/
LOCATION:Virtual Education
CATEGORIES:Education,Virtual Education
ATTACH;FMTTYPE=image/png:https://aginginnovation.org/wp-content/uploads/2026/02/Role-of-the-Nurse1.png
END:VEVENT
BEGIN:VEVENT
DTSTART;TZID=America/New_York:20260609T103000
DTEND;TZID=America/New_York:20260609T123000
DTSTAMP:20260423T080839
CREATED:20260220T181852Z
LAST-MODIFIED:20260325T225553Z
UID:10000152-1781001000-1781008200@aginginnovation.org
SUMMARY:Role of the Nurse
DESCRIPTION:Strengthening Clinical Leadership in Green House & Small House Homes\nNurses play a uniquely influential role in Green House and small house homes. Beyond clinical oversight\, they serve as partners\, advocates\, and leaders—supporting elders while working in deep collaboration with direct care partners. \nRole of the Nurse is a highly interactive\, practical course designed to equip nurses with the tools\, confidence\, and perspective needed to excel in this small house environment. \nWhy Role of the Nurse Matters\nIn Green House and small-house homes\, nurses are essential to creating environments where older adults thrive—while honoring autonomy\, dignity\, and shared decision-making. \nWho Is This Course For?\nThis course is open to all nurses who: \n\nWork in Green House or small house homes\nWant to strengthen partnerships with direct care partners\nSeek practical strategies grounded in real-world application\n\nWhat You’ll Learn:\n\nThe unique role and influence of the Green House/small house nurse\nPartnerships with direct care partners built on trust and shared problem-solving\nThe nurse’s role in navigating the dignity of risk as an advocate for elders\nLiberalized\, elder-directed medication pass practices\nHow polypharmacy can impact wellbeing — and what nurses can do when elders experience distress\n\nCourse Format & Schedule:\nRole of the Nurse\nDirect to Learner\nDates: Tuesday\, June 2 and Thursday\, June 4\, 2026\nTime: 9:00 am-1:00 pm EST\nFormat: Zoom\nTotal Duration: Two 4-hour sessions (8 hours total) \nTrain-the-Trainer\nDate: Tuesday\, June 9\, 2026\nTime: 10:30 am–12:30 pm EST\nFormat: Zoom\nTotal Duration: 2 hours \nWhat’s Included:\n\nPre- and post-course work\nPractical course handouts\nCollaborative learning with peer nurses\n\nRole of the Nurse Pricing\n\nUp to 6 nurses per location: $750\nUp to 4 nurses per location: $450\n\nTrain-the-Trainer Pricing\n\n$350\n\nQuestions?\nContact Mary mhopfnerthomas@aginginnovation.org today! \nDownload the FlyerRegister for Role of the NurseRegister for Train-theTrainer
URL:https://aginginnovation.org/event/role-of-the-nurse/2026-06-09/
LOCATION:Virtual Education
CATEGORIES:Education,Virtual Education
ATTACH;FMTTYPE=image/png:https://aginginnovation.org/wp-content/uploads/2026/02/Role-of-the-Nurse1.png
END:VEVENT
BEGIN:VEVENT
DTSTART;TZID=America/New_York:20260616T103000
DTEND;TZID=America/New_York:20260617T120000
DTSTAMP:20260423T080839
CREATED:20260330T151834Z
LAST-MODIFIED:20260402T143419Z
UID:10000153-1781605800-1781697600@aginginnovation.org
SUMMARY:Reimagining Care Symposium
DESCRIPTION:Repositioning Today’s Care Settings into Homes Where People Want to Live\nIf you’re responsible for the future of health services in your organization\, this is an affordable symposium you cannot afford to miss. \nMany skilled nursing centers\, assisted living communities\, and memory care neighborhoods are struggling with outdated models that are increasingly unattractive to both the market and the workforce. Some communities are closing. Some are being sold. But others are asking a more proactive question:\nWhat if we reimagined care entirely? \nOverview\nThe Reimagining Care Symposium is designed for leaders ready to rethink the future of health services in their communities. \nIn a small\, intimate setting\, this two‑day gathering places you close to industry leaders\, innovators\, and peer operators for candid conversations\, real case studies\, and practical strategies for moving beyond outdated institutional models toward environments that feel like home. \nFeatured Speakers\nAmy Estridge – Director\, 3rd3rd Marketing\nAmy will explore the often overlooked but essential role of branding\, marketing\, and lead generation in senior care. She will demonstrate how strong positioning and messaging can transform a care community into a vibrant place where older adults truly want to live. \nSusan Ryan & Zoie Garza – AgingIN Leadership Team\nAgingIN CEO Susan Ryan and coach Zoie Garza will share insights based on the latest research and real‑world experience. Their sessions will explore workforce development\, culture change\, and person‑directed care practices that help organizations translate innovation into action. \nMichael Starke – President & CEO\, PMD\nMichael will challenge conventional thinking around senior living development by examining how shifting demographics\, consumer expectations and market realities are redefining what today’s communities must deliver. Drawing on decades of experience\, he will explore how data\, feasibility and forward-looking strategy can move organizations beyond outdated models and toward communities that truly resonate with the next generation of older adults. \nStay Tuned: More Speakers Coming Soon! \nExperiential Learning\nLive Tour & Education – The Homeplace at Midway \nParticipants will explore The Homeplace at Midway\, Kentucky’s first GREEN HOUSE™ Project community. \nThis immersive experience demonstrates how thoughtful design\, small‑house living\, and empowered care teams create environments where individualized care\, dignity\, and meaningful daily life are operational realities. \nEvent Details\nDates: June 16–17\, 2026\nLocation: The Homeplace at Midway\n101 Sexton Way\nMidway\, KY 40347\n(Fly into Lexington\, Kentucky) \nSymposium Cost: $495 \nRegister today and bring your team. \nLocal Hotels\n\nHilton Garden Inn\nHilton\nMarriott Courtyard\nMarriott Springhill\n\nRegister Today
URL:https://aginginnovation.org/event/reimagining-care-symposium/
LOCATION:The Homeplace at Midway\, 101 Sexton Way\, Midway\, KY\, 40347\, United States
CATEGORIES:Education,Workshop & Symposium
ATTACH;FMTTYPE=image/png:https://aginginnovation.org/wp-content/uploads/2026/03/Reimagining-Care-Symposium.png
END:VEVENT
BEGIN:VEVENT
DTSTART;TZID=America/New_York:20260910T130000
DTEND;TZID=America/New_York:20260910T150000
DTSTAMP:20260423T080839
CREATED:20260203T185237Z
LAST-MODIFIED:20260330T140935Z
UID:10000135-1789045200-1789052400@aginginnovation.org
SUMMARY:Leading Empowered Cultures
DESCRIPTION:Join us every Thursday from September 10 through November 5\, 2026\, from 1:00 to 3:00 p.m. EST.\nResidential care is evolving and leaders who champion person-directed living and empowered teams are defining what comes next. The Leading Empowered Cultures virtual course delivers a coaching mindset and practical tools to support staff stability\, build critical thinking skills and strengthen community culture from within. \nDeveloped from more than four decades of proven practices from THE GREEN HOUSE® PROJECT and Pioneer Network\, this course equips leaders to build collaboration\, boost retention and foster a workforce that thrives. \nContinuing Education Credits\nCE credit will be offered through: \n\nNational Association of Long Term Care Administrator Boards (NAB)\nMaryland Nurses Association (MNA) for nursing\nCEU approval for social workers is being pursued\n\nCourse Schedule\n\nThursdays\, 1 to 3 p.m. EST\nSeptember 10\, 17\, and 24\nOctober 1\, 8\, 15\, 22\, and 29\nNovember 5\n\nClick to download the flyer here. \nSee all registration dates here. \nRegister Here
URL:https://aginginnovation.org/event/leading-empowered-cultures/2026-09-10/
LOCATION:Virtual Education
CATEGORIES:Education
ATTACH;FMTTYPE=image/png:https://aginginnovation.org/wp-content/uploads/2026/02/Leading-Empowered-Cultures.png
END:VEVENT
BEGIN:VEVENT
DTSTART;TZID=America/New_York:20260917T130000
DTEND;TZID=America/New_York:20260917T150000
DTSTAMP:20260423T080839
CREATED:20260203T185237Z
LAST-MODIFIED:20260330T140935Z
UID:10000136-1789650000-1789657200@aginginnovation.org
SUMMARY:Leading Empowered Cultures
DESCRIPTION:Join us every Thursday from September 10 through November 5\, 2026\, from 1:00 to 3:00 p.m. EST.\nResidential care is evolving and leaders who champion person-directed living and empowered teams are defining what comes next. The Leading Empowered Cultures virtual course delivers a coaching mindset and practical tools to support staff stability\, build critical thinking skills and strengthen community culture from within. \nDeveloped from more than four decades of proven practices from THE GREEN HOUSE® PROJECT and Pioneer Network\, this course equips leaders to build collaboration\, boost retention and foster a workforce that thrives. \nContinuing Education Credits\nCE credit will be offered through: \n\nNational Association of Long Term Care Administrator Boards (NAB)\nMaryland Nurses Association (MNA) for nursing\nCEU approval for social workers is being pursued\n\nCourse Schedule\n\nThursdays\, 1 to 3 p.m. EST\nSeptember 10\, 17\, and 24\nOctober 1\, 8\, 15\, 22\, and 29\nNovember 5\n\nClick to download the flyer here. \nSee all registration dates here. \nRegister Here
URL:https://aginginnovation.org/event/leading-empowered-cultures/2026-09-17/
LOCATION:Virtual Education
CATEGORIES:Education
ATTACH;FMTTYPE=image/png:https://aginginnovation.org/wp-content/uploads/2026/02/Leading-Empowered-Cultures.png
END:VEVENT
BEGIN:VEVENT
DTSTART;TZID=America/New_York:20260924T130000
DTEND;TZID=America/New_York:20260924T150000
DTSTAMP:20260423T080839
CREATED:20260203T185237Z
LAST-MODIFIED:20260330T140935Z
UID:10000137-1790254800-1790262000@aginginnovation.org
SUMMARY:Leading Empowered Cultures
DESCRIPTION:Join us every Thursday from September 10 through November 5\, 2026\, from 1:00 to 3:00 p.m. EST.\nResidential care is evolving and leaders who champion person-directed living and empowered teams are defining what comes next. The Leading Empowered Cultures virtual course delivers a coaching mindset and practical tools to support staff stability\, build critical thinking skills and strengthen community culture from within. \nDeveloped from more than four decades of proven practices from THE GREEN HOUSE® PROJECT and Pioneer Network\, this course equips leaders to build collaboration\, boost retention and foster a workforce that thrives. \nContinuing Education Credits\nCE credit will be offered through: \n\nNational Association of Long Term Care Administrator Boards (NAB)\nMaryland Nurses Association (MNA) for nursing\nCEU approval for social workers is being pursued\n\nCourse Schedule\n\nThursdays\, 1 to 3 p.m. EST\nSeptember 10\, 17\, and 24\nOctober 1\, 8\, 15\, 22\, and 29\nNovember 5\n\nClick to download the flyer here. \nSee all registration dates here. \nRegister Here
URL:https://aginginnovation.org/event/leading-empowered-cultures/2026-09-24/
LOCATION:Virtual Education
CATEGORIES:Education
ATTACH;FMTTYPE=image/png:https://aginginnovation.org/wp-content/uploads/2026/02/Leading-Empowered-Cultures.png
END:VEVENT
BEGIN:VEVENT
DTSTART;TZID=America/New_York:20261001T130000
DTEND;TZID=America/New_York:20261001T150000
DTSTAMP:20260423T080839
CREATED:20260203T185237Z
LAST-MODIFIED:20260330T140935Z
UID:10000138-1790859600-1790866800@aginginnovation.org
SUMMARY:Leading Empowered Cultures
DESCRIPTION:Join us every Thursday from September 10 through November 5\, 2026\, from 1:00 to 3:00 p.m. EST.\nResidential care is evolving and leaders who champion person-directed living and empowered teams are defining what comes next. The Leading Empowered Cultures virtual course delivers a coaching mindset and practical tools to support staff stability\, build critical thinking skills and strengthen community culture from within. \nDeveloped from more than four decades of proven practices from THE GREEN HOUSE® PROJECT and Pioneer Network\, this course equips leaders to build collaboration\, boost retention and foster a workforce that thrives. \nContinuing Education Credits\nCE credit will be offered through: \n\nNational Association of Long Term Care Administrator Boards (NAB)\nMaryland Nurses Association (MNA) for nursing\nCEU approval for social workers is being pursued\n\nCourse Schedule\n\nThursdays\, 1 to 3 p.m. EST\nSeptember 10\, 17\, and 24\nOctober 1\, 8\, 15\, 22\, and 29\nNovember 5\n\nClick to download the flyer here. \nSee all registration dates here. \nRegister Here
URL:https://aginginnovation.org/event/leading-empowered-cultures/2026-10-01/
LOCATION:Virtual Education
CATEGORIES:Education
ATTACH;FMTTYPE=image/png:https://aginginnovation.org/wp-content/uploads/2026/02/Leading-Empowered-Cultures.png
END:VEVENT
BEGIN:VEVENT
DTSTART;TZID=America/New_York:20261008T130000
DTEND;TZID=America/New_York:20261008T150000
DTSTAMP:20260423T080839
CREATED:20260203T185237Z
LAST-MODIFIED:20260330T140935Z
UID:10000139-1791464400-1791471600@aginginnovation.org
SUMMARY:Leading Empowered Cultures
DESCRIPTION:Join us every Thursday from September 10 through November 5\, 2026\, from 1:00 to 3:00 p.m. EST.\nResidential care is evolving and leaders who champion person-directed living and empowered teams are defining what comes next. The Leading Empowered Cultures virtual course delivers a coaching mindset and practical tools to support staff stability\, build critical thinking skills and strengthen community culture from within. \nDeveloped from more than four decades of proven practices from THE GREEN HOUSE® PROJECT and Pioneer Network\, this course equips leaders to build collaboration\, boost retention and foster a workforce that thrives. \nContinuing Education Credits\nCE credit will be offered through: \n\nNational Association of Long Term Care Administrator Boards (NAB)\nMaryland Nurses Association (MNA) for nursing\nCEU approval for social workers is being pursued\n\nCourse Schedule\n\nThursdays\, 1 to 3 p.m. EST\nSeptember 10\, 17\, and 24\nOctober 1\, 8\, 15\, 22\, and 29\nNovember 5\n\nClick to download the flyer here. \nSee all registration dates here. \nRegister Here
URL:https://aginginnovation.org/event/leading-empowered-cultures/2026-10-08/
LOCATION:Virtual Education
CATEGORIES:Education
ATTACH;FMTTYPE=image/png:https://aginginnovation.org/wp-content/uploads/2026/02/Leading-Empowered-Cultures.png
END:VEVENT
BEGIN:VEVENT
DTSTART;TZID=America/New_York:20261015T130000
DTEND;TZID=America/New_York:20261015T150000
DTSTAMP:20260423T080839
CREATED:20260203T185237Z
LAST-MODIFIED:20260330T140935Z
UID:10000140-1792069200-1792076400@aginginnovation.org
SUMMARY:Leading Empowered Cultures
DESCRIPTION:Join us every Thursday from September 10 through November 5\, 2026\, from 1:00 to 3:00 p.m. EST.\nResidential care is evolving and leaders who champion person-directed living and empowered teams are defining what comes next. The Leading Empowered Cultures virtual course delivers a coaching mindset and practical tools to support staff stability\, build critical thinking skills and strengthen community culture from within. \nDeveloped from more than four decades of proven practices from THE GREEN HOUSE® PROJECT and Pioneer Network\, this course equips leaders to build collaboration\, boost retention and foster a workforce that thrives. \nContinuing Education Credits\nCE credit will be offered through: \n\nNational Association of Long Term Care Administrator Boards (NAB)\nMaryland Nurses Association (MNA) for nursing\nCEU approval for social workers is being pursued\n\nCourse Schedule\n\nThursdays\, 1 to 3 p.m. EST\nSeptember 10\, 17\, and 24\nOctober 1\, 8\, 15\, 22\, and 29\nNovember 5\n\nClick to download the flyer here. \nSee all registration dates here. \nRegister Here
URL:https://aginginnovation.org/event/leading-empowered-cultures/2026-10-15/
LOCATION:Virtual Education
CATEGORIES:Education
ATTACH;FMTTYPE=image/png:https://aginginnovation.org/wp-content/uploads/2026/02/Leading-Empowered-Cultures.png
END:VEVENT
BEGIN:VEVENT
DTSTART;TZID=America/New_York:20261022T130000
DTEND;TZID=America/New_York:20261022T150000
DTSTAMP:20260423T080839
CREATED:20260203T185237Z
LAST-MODIFIED:20260330T140935Z
UID:10000141-1792674000-1792681200@aginginnovation.org
SUMMARY:Leading Empowered Cultures
DESCRIPTION:Join us every Thursday from September 10 through November 5\, 2026\, from 1:00 to 3:00 p.m. EST.\nResidential care is evolving and leaders who champion person-directed living and empowered teams are defining what comes next. The Leading Empowered Cultures virtual course delivers a coaching mindset and practical tools to support staff stability\, build critical thinking skills and strengthen community culture from within. \nDeveloped from more than four decades of proven practices from THE GREEN HOUSE® PROJECT and Pioneer Network\, this course equips leaders to build collaboration\, boost retention and foster a workforce that thrives. \nContinuing Education Credits\nCE credit will be offered through: \n\nNational Association of Long Term Care Administrator Boards (NAB)\nMaryland Nurses Association (MNA) for nursing\nCEU approval for social workers is being pursued\n\nCourse Schedule\n\nThursdays\, 1 to 3 p.m. EST\nSeptember 10\, 17\, and 24\nOctober 1\, 8\, 15\, 22\, and 29\nNovember 5\n\nClick to download the flyer here. \nSee all registration dates here. \nRegister Here
URL:https://aginginnovation.org/event/leading-empowered-cultures/2026-10-22/
LOCATION:Virtual Education
CATEGORIES:Education
ATTACH;FMTTYPE=image/png:https://aginginnovation.org/wp-content/uploads/2026/02/Leading-Empowered-Cultures.png
END:VEVENT
BEGIN:VEVENT
DTSTART;TZID=America/New_York:20261029T130000
DTEND;TZID=America/New_York:20261029T150000
DTSTAMP:20260423T080839
CREATED:20260203T185237Z
LAST-MODIFIED:20260330T140935Z
UID:10000142-1793278800-1793286000@aginginnovation.org
SUMMARY:Leading Empowered Cultures
DESCRIPTION:Join us every Thursday from September 10 through November 5\, 2026\, from 1:00 to 3:00 p.m. EST.\nResidential care is evolving and leaders who champion person-directed living and empowered teams are defining what comes next. The Leading Empowered Cultures virtual course delivers a coaching mindset and practical tools to support staff stability\, build critical thinking skills and strengthen community culture from within. \nDeveloped from more than four decades of proven practices from THE GREEN HOUSE® PROJECT and Pioneer Network\, this course equips leaders to build collaboration\, boost retention and foster a workforce that thrives. \nContinuing Education Credits\nCE credit will be offered through: \n\nNational Association of Long Term Care Administrator Boards (NAB)\nMaryland Nurses Association (MNA) for nursing\nCEU approval for social workers is being pursued\n\nCourse Schedule\n\nThursdays\, 1 to 3 p.m. EST\nSeptember 10\, 17\, and 24\nOctober 1\, 8\, 15\, 22\, and 29\nNovember 5\n\nClick to download the flyer here. \nSee all registration dates here. \nRegister Here
URL:https://aginginnovation.org/event/leading-empowered-cultures/2026-10-29/
LOCATION:Virtual Education
CATEGORIES:Education
ATTACH;FMTTYPE=image/png:https://aginginnovation.org/wp-content/uploads/2026/02/Leading-Empowered-Cultures.png
END:VEVENT
BEGIN:VEVENT
DTSTART;TZID=America/New_York:20261105T130000
DTEND;TZID=America/New_York:20261105T150000
DTSTAMP:20260423T080839
CREATED:20260203T185237Z
LAST-MODIFIED:20260330T140935Z
UID:10000143-1793883600-1793890800@aginginnovation.org
SUMMARY:Leading Empowered Cultures
DESCRIPTION:Join us every Thursday from September 10 through November 5\, 2026\, from 1:00 to 3:00 p.m. EST.\nResidential care is evolving and leaders who champion person-directed living and empowered teams are defining what comes next. The Leading Empowered Cultures virtual course delivers a coaching mindset and practical tools to support staff stability\, build critical thinking skills and strengthen community culture from within. \nDeveloped from more than four decades of proven practices from THE GREEN HOUSE® PROJECT and Pioneer Network\, this course equips leaders to build collaboration\, boost retention and foster a workforce that thrives. \nContinuing Education Credits\nCE credit will be offered through: \n\nNational Association of Long Term Care Administrator Boards (NAB)\nMaryland Nurses Association (MNA) for nursing\nCEU approval for social workers is being pursued\n\nCourse Schedule\n\nThursdays\, 1 to 3 p.m. EST\nSeptember 10\, 17\, and 24\nOctober 1\, 8\, 15\, 22\, and 29\nNovember 5\n\nClick to download the flyer here. \nSee all registration dates here. \nRegister Here
URL:https://aginginnovation.org/event/leading-empowered-cultures/2026-11-05/
LOCATION:Virtual Education
CATEGORIES:Education
ATTACH;FMTTYPE=image/png:https://aginginnovation.org/wp-content/uploads/2026/02/Leading-Empowered-Cultures.png
END:VEVENT
END:VCALENDAR