BEGIN:VCALENDAR
VERSION:2.0
PRODID:-//AgingIN - ECPv6.15.20//NONSGML v1.0//EN
CALSCALE:GREGORIAN
METHOD:PUBLISH
X-ORIGINAL-URL:https://aginginnovation.org
X-WR-CALDESC:Events for AgingIN
REFRESH-INTERVAL;VALUE=DURATION:PT1H
X-Robots-Tag:noindex
X-PUBLISHED-TTL:PT1H
BEGIN:VTIMEZONE
TZID:America/New_York
BEGIN:DAYLIGHT
TZOFFSETFROM:-0500
TZOFFSETTO:-0400
TZNAME:EDT
DTSTART:20250309T070000
END:DAYLIGHT
BEGIN:STANDARD
TZOFFSETFROM:-0400
TZOFFSETTO:-0500
TZNAME:EST
DTSTART:20251102T060000
END:STANDARD
BEGIN:DAYLIGHT
TZOFFSETFROM:-0500
TZOFFSETTO:-0400
TZNAME:EDT
DTSTART:20260308T070000
END:DAYLIGHT
BEGIN:STANDARD
TZOFFSETFROM:-0400
TZOFFSETTO:-0500
TZNAME:EST
DTSTART:20261101T060000
END:STANDARD
BEGIN:DAYLIGHT
TZOFFSETFROM:-0500
TZOFFSETTO:-0400
TZNAME:EDT
DTSTART:20270314T070000
END:DAYLIGHT
BEGIN:STANDARD
TZOFFSETFROM:-0400
TZOFFSETTO:-0500
TZNAME:EST
DTSTART:20271107T060000
END:STANDARD
END:VTIMEZONE
BEGIN:VEVENT
DTSTART;TZID=America/New_York:20260324T080000
DTEND;TZID=America/New_York:20260326T170000
DTSTAMP:20260421T195209
CREATED:20260202T164029Z
LAST-MODIFIED:20260220T173809Z
UID:10000002-1774339200-1774544400@aginginnovation.org
SUMMARY:LEADER: Louisiana Enhancing Aging with Dignity through Empowerment and Respect
DESCRIPTION:16th Annual Summit\nMarch 24-26\, 2026\nParagon Casino | Marksville\, LA \nJoin us as we put the spotlight on person-directed care. This annual event keeps growing\, bringing together Louisiana’s administrators\, nurses\, and key personnel to Put a Spotlight on PERSON DIRECTED CARE for our aging communities. \nLearn More and Register Here
URL:https://aginginnovation.org/event/leader-louisiana-enhancing-aging-with-dignity-through-empowerment-and-respect/
LOCATION:Paragon Casino\, 711 Paragon Pl\, Marksville\, LA\, 71351\, United States
CATEGORIES:State Coalition Event
ATTACH;FMTTYPE=image/png:https://aginginnovation.org/wp-content/uploads/2026/02/LEADER-Louisiana-Enhancing-Aging-with-Dignity-through-Empowerment-and-Respect.png
END:VEVENT
END:VCALENDAR