BEGIN:VCALENDAR
VERSION:2.0
PRODID:-//AgingIN - ECPv6.15.20//NONSGML v1.0//EN
CALSCALE:GREGORIAN
METHOD:PUBLISH
X-ORIGINAL-URL:https://aginginnovation.org
X-WR-CALDESC:Events for AgingIN
REFRESH-INTERVAL;VALUE=DURATION:PT1H
X-Robots-Tag:noindex
X-PUBLISHED-TTL:PT1H
BEGIN:VTIMEZONE
TZID:America/New_York
BEGIN:DAYLIGHT
TZOFFSETFROM:-0500
TZOFFSETTO:-0400
TZNAME:EDT
DTSTART:20250309T070000
END:DAYLIGHT
BEGIN:STANDARD
TZOFFSETFROM:-0400
TZOFFSETTO:-0500
TZNAME:EST
DTSTART:20251102T060000
END:STANDARD
BEGIN:DAYLIGHT
TZOFFSETFROM:-0500
TZOFFSETTO:-0400
TZNAME:EDT
DTSTART:20260308T070000
END:DAYLIGHT
BEGIN:STANDARD
TZOFFSETFROM:-0400
TZOFFSETTO:-0500
TZNAME:EST
DTSTART:20261101T060000
END:STANDARD
BEGIN:DAYLIGHT
TZOFFSETFROM:-0500
TZOFFSETTO:-0400
TZNAME:EDT
DTSTART:20270314T070000
END:DAYLIGHT
BEGIN:STANDARD
TZOFFSETFROM:-0400
TZOFFSETTO:-0500
TZNAME:EST
DTSTART:20271107T060000
END:STANDARD
END:VTIMEZONE
BEGIN:VEVENT
DTSTART;TZID=America/New_York:20260512T140000
DTEND;TZID=America/New_York:20260512T160000
DTSTAMP:20260421T115626
CREATED:20260220T185959Z
LAST-MODIFIED:20260220T190048Z
UID:10000132-1778594400-1778601600@aginginnovation.org
SUMMARY:Scaling Digital Inclusion for Older Adults: Insights from OATS from AARP Webinar
DESCRIPTION:A Webinar of Insights\nJoin AgingIN for a featured webinar with leaders from Older Adults Technology Services (OATS) from AARP\, a national nonprofit advancing digital inclusion through its flagship Senior Planet program. \nWhat began as a community-based effort in Brooklyn has grown into a national network transforming how older adults connect\, learn\, and thrive in a digital world. \nAt the webinar\, you’ll learn: \n\nHow OATS scaled Senior Planet into a national network of 200 licensed partners across 40 states\nWhat it takes to build sustainable\, community-based digital inclusion programs\nHow aging services organizations\, libraries\, and community networks partner with OATS\nLessons learned from OATS’ national affiliation with AARP\n\nSpeakers \n\nMario Rubano\, Regional Program Manager–North\, OATS from AARP\nDayton Romero\, Regional Program Manager–Mountain Central\, OATS from AARP\nSusan Ryan\, CEO\, AgingIN\n\nOATS is a wildly successful project with great results: \n\n800\,000+ Senior Planet program participations in 2025\n85% feel better equipped to find resources online\n86% feel more connected to the world\n80% feel more confident using technology to connect with friends and family\n\nIf your organization is exploring ways to strengthen connection\, engagement\, and access for older adults\, this conversation offers real-world strategies you can learn from—and apply. \nRegister Here
URL:https://aginginnovation.org/event/scaling-digital-inclusion-for-older-adults-insights-from-oats-from-aarp-webinar/
LOCATION:Webinar
CATEGORIES:Upcoming Webinar
ATTACH;FMTTYPE=image/png:https://aginginnovation.org/wp-content/uploads/2026/02/Insights-from-OATS-from-AARP-Webinar.png
END:VEVENT
BEGIN:VEVENT
DTSTART;TZID=America/New_York:20260520T140000
DTEND;TZID=America/New_York:20260520T150000
DTSTAMP:20260421T115626
CREATED:20260319T151358Z
LAST-MODIFIED:20260319T151358Z
UID:10000149-1779285600-1779289200@aginginnovation.org
SUMMARY:Webinar: Person-Centered Mobility for the 21st Century
DESCRIPTION:How to Better Leverage Technology to Improve Health\, Wellness\, and Engagement.\nImmobility is one of the most persistent challenges in senior living\, affecting resident health\, independence\, and engagement while placing significant physical and time demands on caregivers. \nToday’s innovative mobility solutions offer far greater potential to transform daily care by supporting safer movement\, promoting resident wellness\, and creating opportunities for greater engagement and quality of life. \nJoin Guldmann North America and Brightview Senior Living to discover practical strategies and technology-driven approaches that empower residents\, support caregivers\, and elevate the standard of care in senior living. \nLearning Objectives: \n\nIdentify and evaluate modern mobility technologies that enhance resident health\, safety\, and engagement\nApply evidence-based strategies for implementing person-centered mobility solutions\nAnalyze the impact of mobility technology on workforce efficiency and Time to Care\n\nSpeaker:\nPatti Mechan\, PT\, DPT\, MPH\, CSPHP\nClinical Director\, Guldmann North America \nPatti Mechan is a physical therapist with extensive experience across healthcare settings. She holds a Master of Public Health and earned her Doctorate from the University of New England. \nAs Clinical Director for Guldmann North America\, she developed Guldmann Academy and works with clinicians and organizations to implement successful safety programs and person-centered mobility solutions. \nRegister Today
URL:https://aginginnovation.org/event/webinar-person-centered-mobility-for-the-21st-century/
LOCATION:Webinar
CATEGORIES:Upcoming Webinar
ATTACH;FMTTYPE=image/png:https://aginginnovation.org/wp-content/uploads/2026/03/Webinar-Person-Centered-Mobility-for-the-21st-Century.png
END:VEVENT
END:VCALENDAR