BEGIN:VCALENDAR
VERSION:2.0
PRODID:-//AgingIN - ECPv6.15.20//NONSGML v1.0//EN
CALSCALE:GREGORIAN
METHOD:PUBLISH
X-WR-CALNAME:AgingIN
X-ORIGINAL-URL:https://aginginnovation.org
X-WR-CALDESC:Events for AgingIN
REFRESH-INTERVAL;VALUE=DURATION:PT1H
X-Robots-Tag:noindex
X-PUBLISHED-TTL:PT1H
BEGIN:VTIMEZONE
TZID:America/New_York
BEGIN:DAYLIGHT
TZOFFSETFROM:-0500
TZOFFSETTO:-0400
TZNAME:EDT
DTSTART:19690427T070000
END:DAYLIGHT
BEGIN:STANDARD
TZOFFSETFROM:-0400
TZOFFSETTO:-0500
TZNAME:EST
DTSTART:19691026T060000
END:STANDARD
BEGIN:DAYLIGHT
TZOFFSETFROM:-0500
TZOFFSETTO:-0400
TZNAME:EDT
DTSTART:19700426T070000
END:DAYLIGHT
BEGIN:STANDARD
TZOFFSETFROM:-0400
TZOFFSETTO:-0500
TZNAME:EST
DTSTART:19701025T060000
END:STANDARD
BEGIN:DAYLIGHT
TZOFFSETFROM:-0500
TZOFFSETTO:-0400
TZNAME:EDT
DTSTART:19710425T070000
END:DAYLIGHT
BEGIN:STANDARD
TZOFFSETFROM:-0400
TZOFFSETTO:-0500
TZNAME:EST
DTSTART:19711031T060000
END:STANDARD
BEGIN:DAYLIGHT
TZOFFSETFROM:-0500
TZOFFSETTO:-0400
TZNAME:EDT
DTSTART:19720430T070000
END:DAYLIGHT
BEGIN:STANDARD
TZOFFSETFROM:-0400
TZOFFSETTO:-0500
TZNAME:EST
DTSTART:19721029T060000
END:STANDARD
BEGIN:DAYLIGHT
TZOFFSETFROM:-0500
TZOFFSETTO:-0400
TZNAME:EDT
DTSTART:19730429T070000
END:DAYLIGHT
BEGIN:STANDARD
TZOFFSETFROM:-0400
TZOFFSETTO:-0500
TZNAME:EST
DTSTART:19731028T060000
END:STANDARD
BEGIN:DAYLIGHT
TZOFFSETFROM:-0500
TZOFFSETTO:-0400
TZNAME:EDT
DTSTART:19740106T070000
END:DAYLIGHT
BEGIN:STANDARD
TZOFFSETFROM:-0400
TZOFFSETTO:-0500
TZNAME:EST
DTSTART:19741027T060000
END:STANDARD
BEGIN:DAYLIGHT
TZOFFSETFROM:-0500
TZOFFSETTO:-0400
TZNAME:EDT
DTSTART:19750223T070000
END:DAYLIGHT
BEGIN:STANDARD
TZOFFSETFROM:-0400
TZOFFSETTO:-0500
TZNAME:EST
DTSTART:19751026T060000
END:STANDARD
BEGIN:DAYLIGHT
TZOFFSETFROM:-0500
TZOFFSETTO:-0400
TZNAME:EDT
DTSTART:19760425T070000
END:DAYLIGHT
BEGIN:STANDARD
TZOFFSETFROM:-0400
TZOFFSETTO:-0500
TZNAME:EST
DTSTART:19761031T060000
END:STANDARD
BEGIN:DAYLIGHT
TZOFFSETFROM:-0500
TZOFFSETTO:-0400
TZNAME:EDT
DTSTART:19770424T070000
END:DAYLIGHT
BEGIN:STANDARD
TZOFFSETFROM:-0400
TZOFFSETTO:-0500
TZNAME:EST
DTSTART:19771030T060000
END:STANDARD
BEGIN:DAYLIGHT
TZOFFSETFROM:-0500
TZOFFSETTO:-0400
TZNAME:EDT
DTSTART:19780430T070000
END:DAYLIGHT
BEGIN:STANDARD
TZOFFSETFROM:-0400
TZOFFSETTO:-0500
TZNAME:EST
DTSTART:19781029T060000
END:STANDARD
BEGIN:DAYLIGHT
TZOFFSETFROM:-0500
TZOFFSETTO:-0400
TZNAME:EDT
DTSTART:19790429T070000
END:DAYLIGHT
BEGIN:STANDARD
TZOFFSETFROM:-0400
TZOFFSETTO:-0500
TZNAME:EST
DTSTART:19791028T060000
END:STANDARD
BEGIN:DAYLIGHT
TZOFFSETFROM:-0500
TZOFFSETTO:-0400
TZNAME:EDT
DTSTART:19800427T070000
END:DAYLIGHT
BEGIN:STANDARD
TZOFFSETFROM:-0400
TZOFFSETTO:-0500
TZNAME:EST
DTSTART:19801026T060000
END:STANDARD
BEGIN:DAYLIGHT
TZOFFSETFROM:-0500
TZOFFSETTO:-0400
TZNAME:EDT
DTSTART:19810426T070000
END:DAYLIGHT
BEGIN:STANDARD
TZOFFSETFROM:-0400
TZOFFSETTO:-0500
TZNAME:EST
DTSTART:19811025T060000
END:STANDARD
BEGIN:DAYLIGHT
TZOFFSETFROM:-0500
TZOFFSETTO:-0400
TZNAME:EDT
DTSTART:19820425T070000
END:DAYLIGHT
BEGIN:STANDARD
TZOFFSETFROM:-0400
TZOFFSETTO:-0500
TZNAME:EST
DTSTART:19821031T060000
END:STANDARD
BEGIN:DAYLIGHT
TZOFFSETFROM:-0500
TZOFFSETTO:-0400
TZNAME:EDT
DTSTART:19830424T070000
END:DAYLIGHT
BEGIN:STANDARD
TZOFFSETFROM:-0400
TZOFFSETTO:-0500
TZNAME:EST
DTSTART:19831030T060000
END:STANDARD
BEGIN:DAYLIGHT
TZOFFSETFROM:-0500
TZOFFSETTO:-0400
TZNAME:EDT
DTSTART:19840429T070000
END:DAYLIGHT
BEGIN:STANDARD
TZOFFSETFROM:-0400
TZOFFSETTO:-0500
TZNAME:EST
DTSTART:19841028T060000
END:STANDARD
BEGIN:DAYLIGHT
TZOFFSETFROM:-0500
TZOFFSETTO:-0400
TZNAME:EDT
DTSTART:19850428T070000
END:DAYLIGHT
BEGIN:STANDARD
TZOFFSETFROM:-0400
TZOFFSETTO:-0500
TZNAME:EST
DTSTART:19851027T060000
END:STANDARD
BEGIN:DAYLIGHT
TZOFFSETFROM:-0500
TZOFFSETTO:-0400
TZNAME:EDT
DTSTART:19860427T070000
END:DAYLIGHT
BEGIN:STANDARD
TZOFFSETFROM:-0400
TZOFFSETTO:-0500
TZNAME:EST
DTSTART:19861026T060000
END:STANDARD
BEGIN:DAYLIGHT
TZOFFSETFROM:-0500
TZOFFSETTO:-0400
TZNAME:EDT
DTSTART:19870405T070000
END:DAYLIGHT
BEGIN:STANDARD
TZOFFSETFROM:-0400
TZOFFSETTO:-0500
TZNAME:EST
DTSTART:19871025T060000
END:STANDARD
BEGIN:DAYLIGHT
TZOFFSETFROM:-0500
TZOFFSETTO:-0400
TZNAME:EDT
DTSTART:19880403T070000
END:DAYLIGHT
BEGIN:STANDARD
TZOFFSETFROM:-0400
TZOFFSETTO:-0500
TZNAME:EST
DTSTART:19881030T060000
END:STANDARD
BEGIN:DAYLIGHT
TZOFFSETFROM:-0500
TZOFFSETTO:-0400
TZNAME:EDT
DTSTART:19890402T070000
END:DAYLIGHT
BEGIN:STANDARD
TZOFFSETFROM:-0400
TZOFFSETTO:-0500
TZNAME:EST
DTSTART:19891029T060000
END:STANDARD
BEGIN:DAYLIGHT
TZOFFSETFROM:-0500
TZOFFSETTO:-0400
TZNAME:EDT
DTSTART:19900401T070000
END:DAYLIGHT
BEGIN:STANDARD
TZOFFSETFROM:-0400
TZOFFSETTO:-0500
TZNAME:EST
DTSTART:19901028T060000
END:STANDARD
BEGIN:DAYLIGHT
TZOFFSETFROM:-0500
TZOFFSETTO:-0400
TZNAME:EDT
DTSTART:19910407T070000
END:DAYLIGHT
BEGIN:STANDARD
TZOFFSETFROM:-0400
TZOFFSETTO:-0500
TZNAME:EST
DTSTART:19911027T060000
END:STANDARD
BEGIN:DAYLIGHT
TZOFFSETFROM:-0500
TZOFFSETTO:-0400
TZNAME:EDT
DTSTART:19920405T070000
END:DAYLIGHT
BEGIN:STANDARD
TZOFFSETFROM:-0400
TZOFFSETTO:-0500
TZNAME:EST
DTSTART:19921025T060000
END:STANDARD
BEGIN:DAYLIGHT
TZOFFSETFROM:-0500
TZOFFSETTO:-0400
TZNAME:EDT
DTSTART:19930404T070000
END:DAYLIGHT
BEGIN:STANDARD
TZOFFSETFROM:-0400
TZOFFSETTO:-0500
TZNAME:EST
DTSTART:19931031T060000
END:STANDARD
BEGIN:DAYLIGHT
TZOFFSETFROM:-0500
TZOFFSETTO:-0400
TZNAME:EDT
DTSTART:19940403T070000
END:DAYLIGHT
BEGIN:STANDARD
TZOFFSETFROM:-0400
TZOFFSETTO:-0500
TZNAME:EST
DTSTART:19941030T060000
END:STANDARD
BEGIN:DAYLIGHT
TZOFFSETFROM:-0500
TZOFFSETTO:-0400
TZNAME:EDT
DTSTART:19950402T070000
END:DAYLIGHT
BEGIN:STANDARD
TZOFFSETFROM:-0400
TZOFFSETTO:-0500
TZNAME:EST
DTSTART:19951029T060000
END:STANDARD
BEGIN:DAYLIGHT
TZOFFSETFROM:-0500
TZOFFSETTO:-0400
TZNAME:EDT
DTSTART:19960407T070000
END:DAYLIGHT
BEGIN:STANDARD
TZOFFSETFROM:-0400
TZOFFSETTO:-0500
TZNAME:EST
DTSTART:19961027T060000
END:STANDARD
BEGIN:DAYLIGHT
TZOFFSETFROM:-0500
TZOFFSETTO:-0400
TZNAME:EDT
DTSTART:19970406T070000
END:DAYLIGHT
BEGIN:STANDARD
TZOFFSETFROM:-0400
TZOFFSETTO:-0500
TZNAME:EST
DTSTART:19971026T060000
END:STANDARD
BEGIN:DAYLIGHT
TZOFFSETFROM:-0500
TZOFFSETTO:-0400
TZNAME:EDT
DTSTART:19980405T070000
END:DAYLIGHT
BEGIN:STANDARD
TZOFFSETFROM:-0400
TZOFFSETTO:-0500
TZNAME:EST
DTSTART:19981025T060000
END:STANDARD
BEGIN:DAYLIGHT
TZOFFSETFROM:-0500
TZOFFSETTO:-0400
TZNAME:EDT
DTSTART:19990404T070000
END:DAYLIGHT
BEGIN:STANDARD
TZOFFSETFROM:-0400
TZOFFSETTO:-0500
TZNAME:EST
DTSTART:19991031T060000
END:STANDARD
BEGIN:DAYLIGHT
TZOFFSETFROM:-0500
TZOFFSETTO:-0400
TZNAME:EDT
DTSTART:20000402T070000
END:DAYLIGHT
BEGIN:STANDARD
TZOFFSETFROM:-0400
TZOFFSETTO:-0500
TZNAME:EST
DTSTART:20001029T060000
END:STANDARD
BEGIN:DAYLIGHT
TZOFFSETFROM:-0500
TZOFFSETTO:-0400
TZNAME:EDT
DTSTART:20010401T070000
END:DAYLIGHT
BEGIN:STANDARD
TZOFFSETFROM:-0400
TZOFFSETTO:-0500
TZNAME:EST
DTSTART:20011028T060000
END:STANDARD
BEGIN:DAYLIGHT
TZOFFSETFROM:-0500
TZOFFSETTO:-0400
TZNAME:EDT
DTSTART:20020407T070000
END:DAYLIGHT
BEGIN:STANDARD
TZOFFSETFROM:-0400
TZOFFSETTO:-0500
TZNAME:EST
DTSTART:20021027T060000
END:STANDARD
BEGIN:DAYLIGHT
TZOFFSETFROM:-0500
TZOFFSETTO:-0400
TZNAME:EDT
DTSTART:20030406T070000
END:DAYLIGHT
BEGIN:STANDARD
TZOFFSETFROM:-0400
TZOFFSETTO:-0500
TZNAME:EST
DTSTART:20031026T060000
END:STANDARD
BEGIN:DAYLIGHT
TZOFFSETFROM:-0500
TZOFFSETTO:-0400
TZNAME:EDT
DTSTART:20040404T070000
END:DAYLIGHT
BEGIN:STANDARD
TZOFFSETFROM:-0400
TZOFFSETTO:-0500
TZNAME:EST
DTSTART:20041031T060000
END:STANDARD
BEGIN:DAYLIGHT
TZOFFSETFROM:-0500
TZOFFSETTO:-0400
TZNAME:EDT
DTSTART:20050403T070000
END:DAYLIGHT
BEGIN:STANDARD
TZOFFSETFROM:-0400
TZOFFSETTO:-0500
TZNAME:EST
DTSTART:20051030T060000
END:STANDARD
BEGIN:DAYLIGHT
TZOFFSETFROM:-0500
TZOFFSETTO:-0400
TZNAME:EDT
DTSTART:20060402T070000
END:DAYLIGHT
BEGIN:STANDARD
TZOFFSETFROM:-0400
TZOFFSETTO:-0500
TZNAME:EST
DTSTART:20061029T060000
END:STANDARD
BEGIN:DAYLIGHT
TZOFFSETFROM:-0500
TZOFFSETTO:-0400
TZNAME:EDT
DTSTART:20070311T070000
END:DAYLIGHT
BEGIN:STANDARD
TZOFFSETFROM:-0400
TZOFFSETTO:-0500
TZNAME:EST
DTSTART:20071104T060000
END:STANDARD
BEGIN:DAYLIGHT
TZOFFSETFROM:-0500
TZOFFSETTO:-0400
TZNAME:EDT
DTSTART:20080309T070000
END:DAYLIGHT
BEGIN:STANDARD
TZOFFSETFROM:-0400
TZOFFSETTO:-0500
TZNAME:EST
DTSTART:20081102T060000
END:STANDARD
BEGIN:DAYLIGHT
TZOFFSETFROM:-0500
TZOFFSETTO:-0400
TZNAME:EDT
DTSTART:20090308T070000
END:DAYLIGHT
BEGIN:STANDARD
TZOFFSETFROM:-0400
TZOFFSETTO:-0500
TZNAME:EST
DTSTART:20091101T060000
END:STANDARD
BEGIN:DAYLIGHT
TZOFFSETFROM:-0500
TZOFFSETTO:-0400
TZNAME:EDT
DTSTART:20100314T070000
END:DAYLIGHT
BEGIN:STANDARD
TZOFFSETFROM:-0400
TZOFFSETTO:-0500
TZNAME:EST
DTSTART:20101107T060000
END:STANDARD
BEGIN:DAYLIGHT
TZOFFSETFROM:-0500
TZOFFSETTO:-0400
TZNAME:EDT
DTSTART:20110313T070000
END:DAYLIGHT
BEGIN:STANDARD
TZOFFSETFROM:-0400
TZOFFSETTO:-0500
TZNAME:EST
DTSTART:20111106T060000
END:STANDARD
BEGIN:DAYLIGHT
TZOFFSETFROM:-0500
TZOFFSETTO:-0400
TZNAME:EDT
DTSTART:20120311T070000
END:DAYLIGHT
BEGIN:STANDARD
TZOFFSETFROM:-0400
TZOFFSETTO:-0500
TZNAME:EST
DTSTART:20121104T060000
END:STANDARD
BEGIN:DAYLIGHT
TZOFFSETFROM:-0500
TZOFFSETTO:-0400
TZNAME:EDT
DTSTART:20130310T070000
END:DAYLIGHT
BEGIN:STANDARD
TZOFFSETFROM:-0400
TZOFFSETTO:-0500
TZNAME:EST
DTSTART:20131103T060000
END:STANDARD
BEGIN:DAYLIGHT
TZOFFSETFROM:-0500
TZOFFSETTO:-0400
TZNAME:EDT
DTSTART:20140309T070000
END:DAYLIGHT
BEGIN:STANDARD
TZOFFSETFROM:-0400
TZOFFSETTO:-0500
TZNAME:EST
DTSTART:20141102T060000
END:STANDARD
BEGIN:DAYLIGHT
TZOFFSETFROM:-0500
TZOFFSETTO:-0400
TZNAME:EDT
DTSTART:20150308T070000
END:DAYLIGHT
BEGIN:STANDARD
TZOFFSETFROM:-0400
TZOFFSETTO:-0500
TZNAME:EST
DTSTART:20151101T060000
END:STANDARD
BEGIN:DAYLIGHT
TZOFFSETFROM:-0500
TZOFFSETTO:-0400
TZNAME:EDT
DTSTART:20160313T070000
END:DAYLIGHT
BEGIN:STANDARD
TZOFFSETFROM:-0400
TZOFFSETTO:-0500
TZNAME:EST
DTSTART:20161106T060000
END:STANDARD
BEGIN:DAYLIGHT
TZOFFSETFROM:-0500
TZOFFSETTO:-0400
TZNAME:EDT
DTSTART:20170312T070000
END:DAYLIGHT
BEGIN:STANDARD
TZOFFSETFROM:-0400
TZOFFSETTO:-0500
TZNAME:EST
DTSTART:20171105T060000
END:STANDARD
BEGIN:DAYLIGHT
TZOFFSETFROM:-0500
TZOFFSETTO:-0400
TZNAME:EDT
DTSTART:20180311T070000
END:DAYLIGHT
BEGIN:STANDARD
TZOFFSETFROM:-0400
TZOFFSETTO:-0500
TZNAME:EST
DTSTART:20181104T060000
END:STANDARD
BEGIN:DAYLIGHT
TZOFFSETFROM:-0500
TZOFFSETTO:-0400
TZNAME:EDT
DTSTART:20190310T070000
END:DAYLIGHT
BEGIN:STANDARD
TZOFFSETFROM:-0400
TZOFFSETTO:-0500
TZNAME:EST
DTSTART:20191103T060000
END:STANDARD
BEGIN:DAYLIGHT
TZOFFSETFROM:-0500
TZOFFSETTO:-0400
TZNAME:EDT
DTSTART:20200308T070000
END:DAYLIGHT
BEGIN:STANDARD
TZOFFSETFROM:-0400
TZOFFSETTO:-0500
TZNAME:EST
DTSTART:20201101T060000
END:STANDARD
BEGIN:DAYLIGHT
TZOFFSETFROM:-0500
TZOFFSETTO:-0400
TZNAME:EDT
DTSTART:20210314T070000
END:DAYLIGHT
BEGIN:STANDARD
TZOFFSETFROM:-0400
TZOFFSETTO:-0500
TZNAME:EST
DTSTART:20211107T060000
END:STANDARD
BEGIN:DAYLIGHT
TZOFFSETFROM:-0500
TZOFFSETTO:-0400
TZNAME:EDT
DTSTART:20220313T070000
END:DAYLIGHT
BEGIN:STANDARD
TZOFFSETFROM:-0400
TZOFFSETTO:-0500
TZNAME:EST
DTSTART:20221106T060000
END:STANDARD
END:VTIMEZONE
BEGIN:VEVENT
DTSTART;TZID=America/New_York:20210512T150000
DTEND;TZID=America/New_York:20210512T150000
DTSTAMP:20260423T103239
CREATED:20260204T231718Z
LAST-MODIFIED:20260204T231718Z
UID:10000057-1620831600-1620831600@aginginnovation.org
SUMMARY:From Trauma to Tranquility
DESCRIPTION:WATCH HERE This event examines the traumatic impact the pandemic has had on the nurses in long-term care and honor them for their incredible contributions to eldercare. \nBarbara Patterson-Paul\, BSN\, RN\, vice president of the Nurse Consulting Division at Select Rehabilitation\, will explain the symptoms of trauma\, explore that foundations of resilience\, and discuss strategies for coping. \nNurse attendees may earn 1 nurse contact hour for this webinar. \nWatch Here
URL:https://aginginnovation.org/event/from-trauma-to-tranquility/
CATEGORIES:Past Webinars + Courses
ATTACH;FMTTYPE=image/jpeg:https://aginginnovation.org/wp-content/uploads/2025/07/trauma-tranquility.jpg
END:VEVENT
BEGIN:VEVENT
DTSTART;TZID=America/New_York:20210406T140000
DTEND;TZID=America/New_York:20210406T140000
DTSTAMP:20260423T103239
CREATED:20260204T231720Z
LAST-MODIFIED:20260204T231720Z
UID:10000058-1617717600-1617717600@aginginnovation.org
SUMMARY:Green House Design Webinar Series
DESCRIPTION:small-visibility\,medium-visibility\,large-visibility” sticky_display=”normal\,sticky” class=”” id=”” type_medium=”” type_small=”” order_medium=”0″ order_small=”0″ dimension_spacing_medium=”” dimension_spacing_small=”” dimension_spacing=”” dimension_margin_medium=”” dimension_margin_small=”” margin_top=”” margin_bottom=”” padding_medium=”” padding_small=”” padding_top=”” padding_right=”” padding_bottom=”” padding_left=”” hover_type=”none” border_sizes=”” border_color=”” border_style=”solid” border_radius=”” box_shadow=”no” dimension_box_shadow=”” box_shadow_blur=”0″ box_shadow_spread=”0″ box_shadow_color=”” box_shadow_style=”” background_type=”single” gradient_start_color=”” gradient_end_color=”” gradient_start_position=”0″ gradient_end_position=”100″ gradient_type=”linear” radial_direction=”center center” linear_angle=”180″ background_color=”” background_image=”” background_image_id=”” background_position=”left top” background_repeat=”no-repeat” background_blend_mode=”none” render_logics=”” filter_type=”regular” filter_hue=”0″ filter_saturation=”100″ filter_brightness=”100″ filter_contrast=”100″ filter_invert=”0″ filter_sepia=”0″ filter_opacity=”100″ filter_blur=”0″ filter_hue_hover=”0″ filter_saturation_hover=”100″ filter_brightness_hover=”100″ filter_contrast_hover=”100″ filter_invert_hover=”0″ filter_sepia_hover=”0″ filter_opacity_hover=”100″ filter_blur_hover=”0″ animation_type=”” animation_direction=”left” animation_speed=”0.3″ animation_offset=”” last=”true” border_position=”all” first=”true”] \nThe first webinar launched on April 6. Click HERE to watch a recording of it. \n\nCommunity ConnectionsSpeakers: From The Woodlands at John Knox Village\, Pompano Beach\, Fla.\, Mark Rayner\, administrator\, and Rachel Graham\, chief dietitian\, educator\, and guide\, will serve on a panel moderated by David Hoglund\, principal at Perkins Eastman. \nThe experience of Green House starts well before the home’s front door. The design of each Green House campus offers a variety of opportunities to create community and promote social connectedness outside of the home. This session will examine how Green House creates community connections through the following topics: \n\nCommunity – Outdoor spaces\, clubhouse\, and shared clinical space\nApproach – The front porch versus an elevator lobby\, pedestrian versus vehicular traffic\, first impressions\, identity\, outdoor resident spaces\, and storage\nEntrance – Front door etiquette for visitors and staff\, the entrance hall versus a vestibule\, the coat closet\, resident engagement\, and staff responsibility\nDelivery – Mail\, food\, linens\, supplies\, and trash disposal\nInsights from COVID-19 – Important boundaries\, drop-off zones\, personal protective equipment and sanitization\, telehealth\, and grocery delivery\n\n\nWatch Here[/fusion_builder_column][/fusion_builder_row][/fusion_builder_container]
URL:https://aginginnovation.org/event/green-house-design-webinar-series/
CATEGORIES:Past Webinars + Courses
ATTACH;FMTTYPE=image/jpeg:https://aginginnovation.org/wp-content/uploads/2021/04/revolutionize.jpg
END:VEVENT
BEGIN:VEVENT
DTSTART;TZID=America/New_York:20210112T150000
DTEND;TZID=America/New_York:20210112T150000
DTSTAMP:20260423T103239
CREATED:20260204T231721Z
LAST-MODIFIED:20260204T231721Z
UID:10000059-1610463600-1610463600@aginginnovation.org
SUMMARY:Building Social Connectedness in a Disconnected World
DESCRIPTION:Our first webinar series of 2021\, titled Building Social Connectedness in a Disconnected World\, examines the tragic social isolation that COVID-19 has created among elders\, especially those living in nursing homes and assisted living settings. \nWatch the Series
URL:https://aginginnovation.org/event/building-social-connectedness-in-a-disconnected-world/
CATEGORIES:Past Webinars + Courses
ATTACH;FMTTYPE=image/jpeg:https://aginginnovation.org/wp-content/uploads/2025/07/disconnected-world.jpg
END:VEVENT
BEGIN:VEVENT
DTSTART;TZID=America/New_York:20201124T150000
DTEND;TZID=America/New_York:20201124T150000
DTSTAMP:20260423T103239
CREATED:20260204T231722Z
LAST-MODIFIED:20260204T231722Z
UID:10000060-1606230000-1606230000@aginginnovation.org
SUMMARY:Green House Gratitude Gathering
DESCRIPTION:Our first-ever virtual Green House Gratitude Gathering took place on Tuesday\, Nov. 24\, for the purpose of honoring the incredible work that Green House team members and supporters have done and continue to do amid the pandemic to keep elders safe\, healthy\, and connected. \nWatch Here
URL:https://aginginnovation.org/event/green-house-gratitude-gathering/
CATEGORIES:Past Webinars + Courses
ATTACH;FMTTYPE=image/jpeg:https://aginginnovation.org/wp-content/uploads/2025/07/gratitude.jpg
END:VEVENT
BEGIN:VEVENT
DTSTART;TZID=America/New_York:20201019T150000
DTEND;TZID=America/New_York:20201019T150000
DTSTAMP:20260423T103239
CREATED:20260204T232019Z
LAST-MODIFIED:20260204T232019Z
UID:10000066-1603119600-1603119600@aginginnovation.org
SUMMARY:THW Design Webinar #4: Practical Application of Green House 2.0
DESCRIPTION:Participants learn about Green House Cultural Transformation from individuals who have realized the impact and outcomes that implementing it has made on their organizations and the elders they serve. Joel Anderson\, president & CEO of LifeStar Senior Living; Karla Oliver\, executive director at Fountains of Hope; and Lauren Levant\, vice president of human resources at Jewish Home Family offer their perspectives about working with GHP and Cultural Transformation. \nWatch Video
URL:https://aginginnovation.org/event/thw-design-webinar-4-practical-application-of-green-house-2-0/
CATEGORIES:Past Webinars + Courses
END:VEVENT
BEGIN:VEVENT
DTSTART;TZID=America/New_York:20200916T130000
DTEND;TZID=America/New_York:20200916T130000
DTSTAMP:20260423T103239
CREATED:20260204T231819Z
LAST-MODIFIED:20260204T231819Z
UID:10000061-1600261200-1600261200@aginginnovation.org
SUMMARY:Green House 2.0 Design & Cultural Transformation
DESCRIPTION:This webinar series was designed for skilled nursing\, assisted living\, and small-house providers who want to transform their communities into person-directed\, relationship-rich living environments. \nThe webinars\, which took place between Sept. 16 and Oct. 29\, are based on a recently published Green House 2.0 Design Guide\, a timely resource that outlines key design elements essential to GHP’s Cultural Transformation process. \nDeveloped in partnership with THW Design\, the webinars explore new opportunities for long-term care providers in a COVID era. Elements such as architectural\, interior\, and landscape design are examined through the lens of GHP’s core values of Real Home\, Meaningful Life\, and Empowered Staff. \nBelow is the fourth webinar in the series\, which is avaiable to watch free of charge. For more information about the first three in this series\, contact Janet Wright at jwright@thegreenhouseproject.org. \nWebinar 4: The Magic & Myths: Practical Application of the Green House 2.0 Design Core Elements\nOct. 29\, 2020 at 1 PM Eastern Participants will learn about Green House Cultural Transformation from individuals who have realized the impact and outcomes that implementing it has made on their organizations and the elders they serve. \nWatch HereWebinar 1: Architectural Design\nSept. 16\, 2020 at 1 PM EasternThis webinar focuses on the architectural and design components necessary to the renovation of traditional skilled nursing buildings as well as smaller environments. \nFor more information\, including a link to the recording\, please contact jwright@thegreenhouseproject.org. \nWebinar 2: Interior Design\nSept. 30\, 2020 at 1 PM EasternThis webinar explores the interior design elements critical to the transformation of existing traditional facilities. Panelists will examine importance of the hearth\, front door\, private rooms\, and more. \nFor more information\, including a link to the recording\, please contact jwright@thegreenhouseproject.org. \nWebinar 3: Landscape Design\nOct. 20\, 2020 at 1 PM EasternThis webinar focuses on how landscapes offer opportunities to create and enhance outdoor spaces\, such as visual landmarks that reinforce wayfinding\, tactile stimulation\, and more. \nFor more information\, including a link to the recording\, please contact jwright@thegreenhouseproject.org. \nPanelists for this webinar series are:THW’s Eric Krull\, Alejandro Giraldo\, Melinda Avila-Torio\, and Jake Friend. \nAlso presenting is GHP Director of Operations Debbie Wiegand. \nEach panel discussion will be moderated by GHP Senior Director Susan Ryan.
URL:https://aginginnovation.org/event/green-house-2-0-design-cultural-transformation/
CATEGORIES:Past Webinars + Courses
ATTACH;FMTTYPE=image/png:https://aginginnovation.org/wp-content/uploads/2025/07/design-cultural-transformation.png
END:VEVENT
BEGIN:VEVENT
DTSTART;TZID=America/New_York:20200806T150000
DTEND;TZID=America/New_York:20200806T150000
DTSTAMP:20260423T103239
CREATED:20260204T231820Z
LAST-MODIFIED:20260204T231820Z
UID:10000062-1596726000-1596726000@aginginnovation.org
SUMMARY:Senior Housing Design & COVID-19
DESCRIPTION:How Senior Housing Design Can Reduce Transmission of COVID: An Architect Panel examines the impact of critical design elements in the mitigation of COVID-19 spread in long-term and post-acute care environments. This panel discussion includes Scott Pfeifer of RDG Planning & Design\, Martin Siefering of Perkins Eastman\, and Rob Simonetti of SWBR. \nWatch Here
URL:https://aginginnovation.org/event/senior-housing-design-covid-19/
CATEGORIES:Past Webinars + Courses
ATTACH;FMTTYPE=image/jpeg:https://aginginnovation.org/wp-content/uploads/2025/07/design.jpg
END:VEVENT
BEGIN:VEVENT
DTSTART;TZID=America/New_York:20200623T150000
DTEND;TZID=America/New_York:20200623T150000
DTSTAMP:20260423T103239
CREATED:20260204T231823Z
LAST-MODIFIED:20260204T231823Z
UID:10000064-1592924400-1592924400@aginginnovation.org
SUMMARY:Workforce Wellness & Stress
DESCRIPTION:As we celebrate CNAs\, nurses\, and other frontline staff members\, Dr. Kathleen Weissberg\, OTD\, OTR/L\, examines many aspects of caregiving wellness for working settings amid COVID-19. \nWatch Here
URL:https://aginginnovation.org/event/workforce-wellness-stress/
CATEGORIES:Past Webinars + Courses
ATTACH;FMTTYPE=image/jpeg:https://aginginnovation.org/wp-content/uploads/2025/07/wellness.jpg
END:VEVENT
BEGIN:VEVENT
DTSTART;TZID=America/New_York:20200622T130000
DTEND;TZID=America/New_York:20200622T130000
DTSTAMP:20260423T103239
CREATED:20260204T231822Z
LAST-MODIFIED:20260204T231822Z
UID:10000063-1592830800-1592830800@aginginnovation.org
SUMMARY:What Your CNA Staff Won't Tell You
DESCRIPTION:Lori Porter\, cofounder of the National Association of Health Care Assistants\, will tell it like is with regard to how CNAs really want to be appreciated and recognized. If you want to understand how to retain CNAs (and Shahbazim)\, this webinar offers a candid perspective. \nWatch Here
URL:https://aginginnovation.org/event/what-your-cna-staff-wont-tell-you/
CATEGORIES:Past Webinars + Courses
ATTACH;FMTTYPE=image/jpeg:https://aginginnovation.org/wp-content/uploads/2025/07/cna-staff.jpg
END:VEVENT
BEGIN:VEVENT
DTSTART;TZID=America/New_York:20200619T000000
DTEND;TZID=America/New_York:20200619T000000
DTSTAMP:20260423T103239
CREATED:20260204T231824Z
LAST-MODIFIED:20260204T231824Z
UID:10000065-1592524800-1592524800@aginginnovation.org
SUMMARY:CNA Appreciation Happy Hour
DESCRIPTION:We will celebrate CNA (and Shahbazim) Week beginning on June 19 with toasts and tributes to the healthcare heroes of 2020! \nThank you to our sponsor: \n \n\nClick Here To Watch
URL:https://aginginnovation.org/event/cna-appreciation-happy-hour/
CATEGORIES:Past Webinars + Courses
ATTACH;FMTTYPE=image/jpeg:https://aginginnovation.org/wp-content/uploads/2025/07/happy-hour.jpg
END:VEVENT
BEGIN:VEVENT
DTSTART;TZID=America/New_York:20260423T103239
DTEND;TZID=America/New_York:20260423T103239
DTSTAMP:20260423T103239
CREATED:20260204T231617Z
LAST-MODIFIED:20260204T231617Z
UID:10000051-0-0@aginginnovation.org
SUMMARY:The Power of PACE and Green House Homes
DESCRIPTION:At The Green House Project\, we believe in building an eldercare landscape where everyone can receive high-quality care in the setting of their choice. There’s no one-size-fits-all solution for changing long-term care for the better\, or even for a single person’s health care needs over the course of the aging journey. \nThat’s why we embrace the power of Programs for All-Inclusive Care for the Elderly (PACE)\, a federal initiative that provides community-based services for people who require a nursing home level of care. \nIn Detroit\, the pioneers at Presbyterian Villages of Michigan and PACE Southeast Michigan have teamed up to build a unique model of care that captures the best of Green House living and community-based services and supports. \nAt PVM’s Thome Rivertown development\, residents of the Green House homes can access a full range of services — rehab\, medical care\, social enrichment activities\, and more — at the on-site PACE center. It’s a creative and collaborative relationship where a consistent PACE team oversees residents’ overall care plans\, while caregivers at the Green House homes oversee the daily needs of elders — all at a lower cost than traditional nursing home care.  \nThe overarching goal is to avoid institutional care and have elders remain in the community until the end of life\, according to PACE Southeast Michigan CEO Mary Naber. \nWhile the visionaries in Detroit are the first to operationalize a PACE-Green House collaboration\, the model is straightforward and replicable in the communities across the country where both PACE programs and Green House homes offer services. \nIf you’re interested in pursuing a Green House-PACE partnership in your community\, drop us a line at inquiries@thegreenhouseproject.org to get started! \nClick the map to view a full list of markets with Green House homes and PACE programs.
URL:https://aginginnovation.org/event/the-power-of-pace-and-green-house-homes/
CATEGORIES:Past Webinars + Courses
ATTACH;FMTTYPE=image/png:https://aginginnovation.org/wp-content/uploads/2025/07/PACE-promo.png
END:VEVENT
END:VCALENDAR