BEGIN:VCALENDAR
VERSION:2.0
PRODID:-//AgingIN - ECPv6.15.20//NONSGML v1.0//EN
CALSCALE:GREGORIAN
METHOD:PUBLISH
X-WR-CALNAME:AgingIN
X-ORIGINAL-URL:https://aginginnovation.org
X-WR-CALDESC:Events for AgingIN
REFRESH-INTERVAL;VALUE=DURATION:PT1H
X-Robots-Tag:noindex
X-PUBLISHED-TTL:PT1H
BEGIN:VTIMEZONE
TZID:America/New_York
BEGIN:DAYLIGHT
TZOFFSETFROM:-0500
TZOFFSETTO:-0400
TZNAME:EDT
DTSTART:20240310T070000
END:DAYLIGHT
BEGIN:STANDARD
TZOFFSETFROM:-0400
TZOFFSETTO:-0500
TZNAME:EST
DTSTART:20241103T060000
END:STANDARD
BEGIN:DAYLIGHT
TZOFFSETFROM:-0500
TZOFFSETTO:-0400
TZNAME:EDT
DTSTART:20250309T070000
END:DAYLIGHT
BEGIN:STANDARD
TZOFFSETFROM:-0400
TZOFFSETTO:-0500
TZNAME:EST
DTSTART:20251102T060000
END:STANDARD
BEGIN:DAYLIGHT
TZOFFSETFROM:-0500
TZOFFSETTO:-0400
TZNAME:EDT
DTSTART:20260308T070000
END:DAYLIGHT
BEGIN:STANDARD
TZOFFSETFROM:-0400
TZOFFSETTO:-0500
TZNAME:EST
DTSTART:20261101T060000
END:STANDARD
END:VTIMEZONE
BEGIN:VEVENT
DTSTART;TZID=America/New_York:20251009T140000
DTEND;TZID=America/New_York:20251009T140000
DTSTAMP:20260423T114346
CREATED:20260204T230810Z
LAST-MODIFIED:20260204T230810Z
UID:10000009-1760018400-1760018400@aginginnovation.org
SUMMARY:Evidence and Vision: Why the Small House Model Matters
DESCRIPTION:“Evidence and Vision: Why the Small House Model Matters.” \nThis is the first in our new webinar series\, “Reimagining Home: Advancing Small House Models for Quality\, Dignity\, and Sustainability\,” designed to move attendees from awareness and inspiration to action\, engaging them in the research\, policy\, design\, and operational strategies needed to bring the small house model to life. \nJoin experts on topics that range from design and research to renovation and infrastructure costs: \n> Maggie Calkins\, PhD\, M. Arch.\, President and Board Chair\, IDEAS Institute\, will present “Designing the Future of Care: Small House Models That Change Lives\,” and discuss the following: \n\nAn overview of decades of research on outcomes in small house/household models\nAn exploration of what design features most distinguished small house/household models from traditional settings\nNASEM recommendations and their implications for eldercare reform\n\n> Aaron Kirkman\, Senior Analyst Value Based Care\, ATI Advisory\, will present “The 4 Realities Facing LTC Owners — Are You Ready?\,” and discsuss the following: \n\nWhy standing still isn’t an option for LTC owners with aging facilities\nHow to turn conversions into opportunities to “right-size” your campus\nStrategies to confidently tackle renovation and infrastructure costs\nThe key to financial sustainability: creating sufficient space for short-stay patients\n\nWatch HERE.
URL:https://aginginnovation.org/event/evidence-and-vision-why-the-small-house-model-matters/
LOCATION:KY
CATEGORIES:Past Webinars + Courses
END:VEVENT
END:VCALENDAR