BEGIN:VCALENDAR
VERSION:2.0
PRODID:-//AgingIN - ECPv6.15.20//NONSGML v1.0//EN
CALSCALE:GREGORIAN
METHOD:PUBLISH
X-WR-CALNAME:AgingIN
X-ORIGINAL-URL:https://aginginnovation.org
X-WR-CALDESC:Events for AgingIN
REFRESH-INTERVAL;VALUE=DURATION:PT1H
X-Robots-Tag:noindex
X-PUBLISHED-TTL:PT1H
BEGIN:VTIMEZONE
TZID:America/New_York
BEGIN:DAYLIGHT
TZOFFSETFROM:-0500
TZOFFSETTO:-0400
TZNAME:EDT
DTSTART:20250309T070000
END:DAYLIGHT
BEGIN:STANDARD
TZOFFSETFROM:-0400
TZOFFSETTO:-0500
TZNAME:EST
DTSTART:20251102T060000
END:STANDARD
BEGIN:DAYLIGHT
TZOFFSETFROM:-0500
TZOFFSETTO:-0400
TZNAME:EDT
DTSTART:20260308T070000
END:DAYLIGHT
BEGIN:STANDARD
TZOFFSETFROM:-0400
TZOFFSETTO:-0500
TZNAME:EST
DTSTART:20261101T060000
END:STANDARD
BEGIN:DAYLIGHT
TZOFFSETFROM:-0500
TZOFFSETTO:-0400
TZNAME:EDT
DTSTART:20270314T070000
END:DAYLIGHT
BEGIN:STANDARD
TZOFFSETFROM:-0400
TZOFFSETTO:-0500
TZNAME:EST
DTSTART:20271107T060000
END:STANDARD
END:VTIMEZONE
BEGIN:VEVENT
DTSTART;TZID=America/New_York:20260205T140000
DTEND;TZID=America/New_York:20260205T150000
DTSTAMP:20260423T052453
CREATED:20260202T152716Z
LAST-MODIFIED:20260223T221916Z
UID:10000001-1770300000-1770303600@aginginnovation.org
SUMMARY:Learn About AgingIN and the Power of Person-Directed Living
DESCRIPTION:Join us on February 5\, 2025\, at 2 p.m. EST for: Learn About AgingIN and the Power of Person-Directed Living\nJoin us on February 5 for a fun\, fast-paced introduction to AgingIN’s full suite of services\, with opportunities for connection and shared learning designed to support more joy\, purpose\, and person-directed living in the year ahead. Register now! \nA Gathering to Discover AgingIN’s Services and Ignite Fresh Thinking for 2026\nNow is a great time to pause\, reflect\, and imagine what’s possible in the year ahead. Join us for an engaging\, community-building webinar that introduces (or re-introduces!) the many ways AgingIN supports senior living organizations across the continuum–from assisted living and memory care to skilled nursing\, PACE programs\, and small-house environments. \nThis lively session gives you a guided tour of AgingIN’s offerings\, including:\n\nWorkforce and leadership education that helps your team thrive\nMemory care transformation through the Best Life℠ model\nDining consulting that brings autonomy and joy back to the table\nOperational excellence and culture consulting grounded in person-directed values\nFinancial feasibility\, design support\, and architectural guidance\nResearch partnerships that turn evidence into everyday practice\nAgingINsite Assessments—your perfect place to begin\n\nRegister Here
URL:https://aginginnovation.org/event/learn-about-agingin-and-the-power-of-person-directed-living/
LOCATION:Webinar
CATEGORIES:Past Webinars + Courses
ATTACH;FMTTYPE=image/png:https://aginginnovation.org/wp-content/uploads/2026/02/Person-directed-living.png
END:VEVENT
BEGIN:VEVENT
DTSTART;TZID=America/New_York:20260220T080000
DTEND;TZID=America/New_York:20260827T170000
DTSTAMP:20260423T052453
CREATED:20260220T183854Z
LAST-MODIFIED:20260303T204425Z
UID:10000130-1771574400-1787850000@aginginnovation.org
SUMMARY:Communicating for Success: Train-the-Trainer Course
DESCRIPTION:Most Communication Training Fades Once the Session Ends.\nAgingIN’s Communicating for Success is Designed to Do The Opposite.This train-the-trainer model helps organizations embed effective communication into daily practice\, not just talk about it once and move on. \nIn aging services organizations\, communication gaps show up in everyday moments — unclear handoffs between shifts\, conversations that avoid conflict\, and supervisors stepping in to solve instead of developing others. \nOver time\, those small breakdowns add up: duplicated work\, frustration\, inconsistent follow-through\, and teams that don’t fully trust one another. \nCommunicating for Success: Train-the-Trainer is an AgingIN on-demand course designed for organizations that want to address communication as a system-level issue\, not a one-off training need. \nThrough a five-module train-the-trainer model\, your organization develops internal educators who can teach these skills consistently across roles and departments.The result? \nA workforce that feels more confident speaking up\, more capable of navigating differences\, and better equipped to work as a team. \nCommunication shouldn’t be left to personality or chance. It’s a skill—and skills can be taught. \nDelivered virtually and customized to your organization\, this course equips up to four in-house trainers to lead meaningful\, skill-based learning that improves how teams work together. \n\nInvestment: $2\,500\nFormat: Virtual and customized\nImpact: Internal expertise for long-term capacity building\n\nSchedule Communicating for Success for your team below.\nQuestions? Please contact Mary mhopfnerthomas@aginginnovation.org. \nSchedule Your Virtual Training Here
URL:https://aginginnovation.org/event/communicating-for-success-train-the-trainer-course/
LOCATION:Virtual Education
CATEGORIES:Education
ATTACH;FMTTYPE=image/png:https://aginginnovation.org/wp-content/uploads/2026/02/Train-the-Trainer.png
END:VEVENT
END:VCALENDAR