BEGIN:VCALENDAR
VERSION:2.0
PRODID:-//AgingIN - ECPv6.15.20//NONSGML v1.0//EN
CALSCALE:GREGORIAN
METHOD:PUBLISH
X-WR-CALNAME:AgingIN
X-ORIGINAL-URL:https://aginginnovation.org
X-WR-CALDESC:Events for AgingIN
REFRESH-INTERVAL;VALUE=DURATION:PT1H
X-Robots-Tag:noindex
X-PUBLISHED-TTL:PT1H
BEGIN:VTIMEZONE
TZID:America/New_York
BEGIN:DAYLIGHT
TZOFFSETFROM:-0500
TZOFFSETTO:-0400
TZNAME:EDT
DTSTART:20250309T070000
END:DAYLIGHT
BEGIN:STANDARD
TZOFFSETFROM:-0400
TZOFFSETTO:-0500
TZNAME:EST
DTSTART:20251102T060000
END:STANDARD
BEGIN:DAYLIGHT
TZOFFSETFROM:-0500
TZOFFSETTO:-0400
TZNAME:EDT
DTSTART:20260308T070000
END:DAYLIGHT
BEGIN:STANDARD
TZOFFSETFROM:-0400
TZOFFSETTO:-0500
TZNAME:EST
DTSTART:20261101T060000
END:STANDARD
BEGIN:DAYLIGHT
TZOFFSETFROM:-0500
TZOFFSETTO:-0400
TZNAME:EDT
DTSTART:20270314T070000
END:DAYLIGHT
BEGIN:STANDARD
TZOFFSETFROM:-0400
TZOFFSETTO:-0500
TZNAME:EST
DTSTART:20271107T060000
END:STANDARD
END:VTIMEZONE
BEGIN:VEVENT
DTSTART;TZID=America/New_York:20260306T080000
DTEND;TZID=America/New_York:20260306T170000
DTSTAMP:20260423T041001
CREATED:20260203T183705Z
LAST-MODIFIED:20260303T223143Z
UID:10000148-1772784000-1772816400@aginginnovation.org
SUMMARY:Become an Educator. Transform Your Homes.
DESCRIPTION:March 2–6\, 2026 • Poydras Home • New Orleans\nWelcome\, friends of THE GREEN HOUSE® PROJECT and small house innovators. This is your chance to build stronger teams\, strengthen person-directed living\, and expand in-house training capacity with two proven educator pathways. \nGreen House Educator\nFor Green House Partners \nA five-day\, in-person train-the-trainer course designed to build confident\, mission-aligned educators inside your organization. Participants learn to deliver Core Education\, deepen their operational understanding of THE GREEN HOUSE® PROJECT model\, and strengthen training consistency across homes. \nWhy it matters \n\nBuilds internal capacity\nRoots training in real home values\nEnsures alignment across teams and neighborhoods\n\nDownload the flyer here. Register below. \nLiving Well in Small Homes Educator Academy\nFor Small House Operators \nFor the first time\, small house organizations can access a tailored educator pathway. This five-day train-the-trainer experience empowers leaders to teach the three-day person-directed living course with confidence and clarity. \nParticipants gain hands-on practice\, coaching\, and the skills to anchor values-driven training throughout their teams. \nWhy it matters \n\nStrengthens person-directed living\nBuilds sustainable\, in-house training capacity\nSupports onboarding\, consistency\, and organizational culture\n\nDownload the flyer here. Register below. \nWhy Act Now?\n\nSeats are limited\nA chance to lock in lower rates before budgets refresh\nTraining is immersive and in high demand\n\nRegister For Green House PartnersRegister For Small House Operators
URL:https://aginginnovation.org/event/become-an-educator-transform-your-homes/2026-03-06/
LOCATION:Poydras Home\, 5354 Magazine St\, New Orleans\, LA\, 70115\, United States
CATEGORIES:Education
ATTACH;FMTTYPE=image/png:https://aginginnovation.org/wp-content/uploads/2026/02/Become-an-Educator.-Transform-Your-Homes.png
END:VEVENT
BEGIN:VEVENT
DTSTART;TZID=America/New_York:20260305T080000
DTEND;TZID=America/New_York:20260305T170000
DTSTAMP:20260423T041001
CREATED:20260203T183705Z
LAST-MODIFIED:20260303T223143Z
UID:10000147-1772697600-1772730000@aginginnovation.org
SUMMARY:Become an Educator. Transform Your Homes.
DESCRIPTION:March 2–6\, 2026 • Poydras Home • New Orleans\nWelcome\, friends of THE GREEN HOUSE® PROJECT and small house innovators. This is your chance to build stronger teams\, strengthen person-directed living\, and expand in-house training capacity with two proven educator pathways. \nGreen House Educator\nFor Green House Partners \nA five-day\, in-person train-the-trainer course designed to build confident\, mission-aligned educators inside your organization. Participants learn to deliver Core Education\, deepen their operational understanding of THE GREEN HOUSE® PROJECT model\, and strengthen training consistency across homes. \nWhy it matters \n\nBuilds internal capacity\nRoots training in real home values\nEnsures alignment across teams and neighborhoods\n\nDownload the flyer here. Register below. \nLiving Well in Small Homes Educator Academy\nFor Small House Operators \nFor the first time\, small house organizations can access a tailored educator pathway. This five-day train-the-trainer experience empowers leaders to teach the three-day person-directed living course with confidence and clarity. \nParticipants gain hands-on practice\, coaching\, and the skills to anchor values-driven training throughout their teams. \nWhy it matters \n\nStrengthens person-directed living\nBuilds sustainable\, in-house training capacity\nSupports onboarding\, consistency\, and organizational culture\n\nDownload the flyer here. Register below. \nWhy Act Now?\n\nSeats are limited\nA chance to lock in lower rates before budgets refresh\nTraining is immersive and in high demand\n\nRegister For Green House PartnersRegister For Small House Operators
URL:https://aginginnovation.org/event/become-an-educator-transform-your-homes/2026-03-05/
LOCATION:Poydras Home\, 5354 Magazine St\, New Orleans\, LA\, 70115\, United States
CATEGORIES:Education
ATTACH;FMTTYPE=image/png:https://aginginnovation.org/wp-content/uploads/2026/02/Become-an-Educator.-Transform-Your-Homes.png
END:VEVENT
BEGIN:VEVENT
DTSTART;TZID=America/New_York:20260304T080000
DTEND;TZID=America/New_York:20260304T170000
DTSTAMP:20260423T041001
CREATED:20260203T183705Z
LAST-MODIFIED:20260303T223143Z
UID:10000146-1772611200-1772643600@aginginnovation.org
SUMMARY:Become an Educator. Transform Your Homes.
DESCRIPTION:March 2–6\, 2026 • Poydras Home • New Orleans\nWelcome\, friends of THE GREEN HOUSE® PROJECT and small house innovators. This is your chance to build stronger teams\, strengthen person-directed living\, and expand in-house training capacity with two proven educator pathways. \nGreen House Educator\nFor Green House Partners \nA five-day\, in-person train-the-trainer course designed to build confident\, mission-aligned educators inside your organization. Participants learn to deliver Core Education\, deepen their operational understanding of THE GREEN HOUSE® PROJECT model\, and strengthen training consistency across homes. \nWhy it matters \n\nBuilds internal capacity\nRoots training in real home values\nEnsures alignment across teams and neighborhoods\n\nDownload the flyer here. Register below. \nLiving Well in Small Homes Educator Academy\nFor Small House Operators \nFor the first time\, small house organizations can access a tailored educator pathway. This five-day train-the-trainer experience empowers leaders to teach the three-day person-directed living course with confidence and clarity. \nParticipants gain hands-on practice\, coaching\, and the skills to anchor values-driven training throughout their teams. \nWhy it matters \n\nStrengthens person-directed living\nBuilds sustainable\, in-house training capacity\nSupports onboarding\, consistency\, and organizational culture\n\nDownload the flyer here. Register below. \nWhy Act Now?\n\nSeats are limited\nA chance to lock in lower rates before budgets refresh\nTraining is immersive and in high demand\n\nRegister For Green House PartnersRegister For Small House Operators
URL:https://aginginnovation.org/event/become-an-educator-transform-your-homes/2026-03-04/
LOCATION:Poydras Home\, 5354 Magazine St\, New Orleans\, LA\, 70115\, United States
CATEGORIES:Education
ATTACH;FMTTYPE=image/png:https://aginginnovation.org/wp-content/uploads/2026/02/Become-an-Educator.-Transform-Your-Homes.png
END:VEVENT
BEGIN:VEVENT
DTSTART;TZID=America/New_York:20260303T080000
DTEND;TZID=America/New_York:20260303T170000
DTSTAMP:20260423T041001
CREATED:20260203T183705Z
LAST-MODIFIED:20260303T223143Z
UID:10000145-1772524800-1772557200@aginginnovation.org
SUMMARY:Become an Educator. Transform Your Homes.
DESCRIPTION:March 2–6\, 2026 • Poydras Home • New Orleans\nWelcome\, friends of THE GREEN HOUSE® PROJECT and small house innovators. This is your chance to build stronger teams\, strengthen person-directed living\, and expand in-house training capacity with two proven educator pathways. \nGreen House Educator\nFor Green House Partners \nA five-day\, in-person train-the-trainer course designed to build confident\, mission-aligned educators inside your organization. Participants learn to deliver Core Education\, deepen their operational understanding of THE GREEN HOUSE® PROJECT model\, and strengthen training consistency across homes. \nWhy it matters \n\nBuilds internal capacity\nRoots training in real home values\nEnsures alignment across teams and neighborhoods\n\nDownload the flyer here. Register below. \nLiving Well in Small Homes Educator Academy\nFor Small House Operators \nFor the first time\, small house organizations can access a tailored educator pathway. This five-day train-the-trainer experience empowers leaders to teach the three-day person-directed living course with confidence and clarity. \nParticipants gain hands-on practice\, coaching\, and the skills to anchor values-driven training throughout their teams. \nWhy it matters \n\nStrengthens person-directed living\nBuilds sustainable\, in-house training capacity\nSupports onboarding\, consistency\, and organizational culture\n\nDownload the flyer here. Register below. \nWhy Act Now?\n\nSeats are limited\nA chance to lock in lower rates before budgets refresh\nTraining is immersive and in high demand\n\nRegister For Green House PartnersRegister For Small House Operators
URL:https://aginginnovation.org/event/become-an-educator-transform-your-homes/2026-03-03/
LOCATION:Poydras Home\, 5354 Magazine St\, New Orleans\, LA\, 70115\, United States
CATEGORIES:Education
ATTACH;FMTTYPE=image/png:https://aginginnovation.org/wp-content/uploads/2026/02/Become-an-Educator.-Transform-Your-Homes.png
END:VEVENT
BEGIN:VEVENT
DTSTART;TZID=America/New_York:20260302T080000
DTEND;TZID=America/New_York:20260302T180000
DTSTAMP:20260423T041001
CREATED:20260203T183705Z
LAST-MODIFIED:20260303T223143Z
UID:10000144-1772438400-1772474400@aginginnovation.org
SUMMARY:Become an Educator. Transform Your Homes.
DESCRIPTION:March 2–6\, 2026 • Poydras Home • New Orleans\nWelcome\, friends of THE GREEN HOUSE® PROJECT and small house innovators. This is your chance to build stronger teams\, strengthen person-directed living\, and expand in-house training capacity with two proven educator pathways. \nGreen House Educator\nFor Green House Partners \nA five-day\, in-person train-the-trainer course designed to build confident\, mission-aligned educators inside your organization. Participants learn to deliver Core Education\, deepen their operational understanding of THE GREEN HOUSE® PROJECT model\, and strengthen training consistency across homes. \nWhy it matters \n\nBuilds internal capacity\nRoots training in real home values\nEnsures alignment across teams and neighborhoods\n\nDownload the flyer here. Register below. \nLiving Well in Small Homes Educator Academy\nFor Small House Operators \nFor the first time\, small house organizations can access a tailored educator pathway. This five-day train-the-trainer experience empowers leaders to teach the three-day person-directed living course with confidence and clarity. \nParticipants gain hands-on practice\, coaching\, and the skills to anchor values-driven training throughout their teams. \nWhy it matters \n\nStrengthens person-directed living\nBuilds sustainable\, in-house training capacity\nSupports onboarding\, consistency\, and organizational culture\n\nDownload the flyer here. Register below. \nWhy Act Now?\n\nSeats are limited\nA chance to lock in lower rates before budgets refresh\nTraining is immersive and in high demand\n\nRegister For Green House PartnersRegister For Small House Operators
URL:https://aginginnovation.org/event/become-an-educator-transform-your-homes/2026-03-02/
LOCATION:Poydras Home\, 5354 Magazine St\, New Orleans\, LA\, 70115\, United States
CATEGORIES:Education
ATTACH;FMTTYPE=image/png:https://aginginnovation.org/wp-content/uploads/2026/02/Become-an-Educator.-Transform-Your-Homes.png
END:VEVENT
END:VCALENDAR